BEGIN:VCALENDAR
VERSION:2.0
PRODID:-//Ray Petersen Music - ECPv6.15.20//NONSGML v1.0//EN
CALSCALE:GREGORIAN
METHOD:PUBLISH
X-WR-CALNAME:Ray Petersen Music
X-ORIGINAL-URL:https://raypetersenmusic.com
X-WR-CALDESC:Events for Ray Petersen Music
REFRESH-INTERVAL;VALUE=DURATION:PT1H
X-Robots-Tag:noindex
X-PUBLISHED-TTL:PT1H
BEGIN:VTIMEZONE
TZID:America/New_York
BEGIN:DAYLIGHT
TZOFFSETFROM:-0500
TZOFFSETTO:-0400
TZNAME:EDT
DTSTART:20200308T070000
END:DAYLIGHT
BEGIN:STANDARD
TZOFFSETFROM:-0400
TZOFFSETTO:-0500
TZNAME:EST
DTSTART:20201101T060000
END:STANDARD
BEGIN:DAYLIGHT
TZOFFSETFROM:-0500
TZOFFSETTO:-0400
TZNAME:EDT
DTSTART:20210314T070000
END:DAYLIGHT
BEGIN:STANDARD
TZOFFSETFROM:-0400
TZOFFSETTO:-0500
TZNAME:EST
DTSTART:20211107T060000
END:STANDARD
BEGIN:DAYLIGHT
TZOFFSETFROM:-0500
TZOFFSETTO:-0400
TZNAME:EDT
DTSTART:20220313T070000
END:DAYLIGHT
BEGIN:STANDARD
TZOFFSETFROM:-0400
TZOFFSETTO:-0500
TZNAME:EST
DTSTART:20221106T060000
END:STANDARD
BEGIN:DAYLIGHT
TZOFFSETFROM:-0500
TZOFFSETTO:-0400
TZNAME:EDT
DTSTART:20230312T070000
END:DAYLIGHT
BEGIN:STANDARD
TZOFFSETFROM:-0400
TZOFFSETTO:-0500
TZNAME:EST
DTSTART:20231105T060000
END:STANDARD
BEGIN:DAYLIGHT
TZOFFSETFROM:-0500
TZOFFSETTO:-0400
TZNAME:EDT
DTSTART:20240310T070000
END:DAYLIGHT
BEGIN:STANDARD
TZOFFSETFROM:-0400
TZOFFSETTO:-0500
TZNAME:EST
DTSTART:20241103T060000
END:STANDARD
BEGIN:DAYLIGHT
TZOFFSETFROM:-0500
TZOFFSETTO:-0400
TZNAME:EDT
DTSTART:20250309T070000
END:DAYLIGHT
BEGIN:STANDARD
TZOFFSETFROM:-0400
TZOFFSETTO:-0500
TZNAME:EST
DTSTART:20251102T060000
END:STANDARD
END:VTIMEZONE
BEGIN:VEVENT
DTSTART;TZID=America/New_York:20240415T140000
DTEND;TZID=America/New_York:20240415T150000
DTSTAMP:20260420T163316
CREATED:20240329T195306Z
LAST-MODIFIED:20240329T195306Z
UID:666-1713189600-1713193200@raypetersenmusic.com
SUMMARY:Brighter Living Assisted Living
DESCRIPTION:
URL:https://raypetersenmusic.com/event/brighter-living-assisted-living-2/
LOCATION:Brighter Living Assisting\, 301 Plaza Drive\, Hopewell\, VA\, 23860\, United States
CATEGORIES:Senior Care
END:VEVENT
BEGIN:VEVENT
DTSTART;TZID=America/New_York:20210629T150000
DTEND;TZID=America/New_York:20210629T160000
DTSTAMP:20260420T163316
CREATED:20210627T143034Z
LAST-MODIFIED:20210627T143034Z
UID:263-1624978800-1624982400@raypetersenmusic.com
SUMMARY:Beth Shalmom at The Gardens
DESCRIPTION:Will be playing for the residents at Beth Shalom at the Gardens in Richmond.
URL:https://raypetersenmusic.com/event/beth-shalmom-at-the-gardens/
LOCATION:VA
CATEGORIES:Health Care Facilities,Senior Care
END:VEVENT
BEGIN:VEVENT
DTSTART;TZID=America/New_York:20210622T143000
DTEND;TZID=America/New_York:20210622T153000
DTSTAMP:20260420T163316
CREATED:20210531T152734Z
LAST-MODIFIED:20210531T152734Z
UID:212-1624372200-1624375800@raypetersenmusic.com
SUMMARY:River View On The Appomatox Health Care Center
DESCRIPTION:Now that things are hopefully on their way back to getting normal\, I will be performing for the residents at the River View On The Appomatox Health Care Center in Hopewell\, Virginia. Looking forward to a great day.
URL:https://raypetersenmusic.com/event/river-view-on-the-appomatox-health-care-center/
LOCATION:VA
CATEGORIES:Health Care Facilities,Senior Care
END:VEVENT
END:VCALENDAR