BEGIN:VCALENDAR
VERSION:2.0
PRODID:-//Ray Petersen Music - ECPv6.15.20//NONSGML v1.0//EN
CALSCALE:GREGORIAN
METHOD:PUBLISH
X-ORIGINAL-URL:https://raypetersenmusic.com
X-WR-CALDESC:Events for Ray Petersen Music
REFRESH-INTERVAL;VALUE=DURATION:PT1H
X-Robots-Tag:noindex
X-PUBLISHED-TTL:PT1H
BEGIN:VTIMEZONE
TZID:America/New_York
BEGIN:DAYLIGHT
TZOFFSETFROM:-0500
TZOFFSETTO:-0400
TZNAME:EDT
DTSTART:20230312T070000
END:DAYLIGHT
BEGIN:STANDARD
TZOFFSETFROM:-0400
TZOFFSETTO:-0500
TZNAME:EST
DTSTART:20231105T060000
END:STANDARD
BEGIN:DAYLIGHT
TZOFFSETFROM:-0500
TZOFFSETTO:-0400
TZNAME:EDT
DTSTART:20240310T070000
END:DAYLIGHT
BEGIN:STANDARD
TZOFFSETFROM:-0400
TZOFFSETTO:-0500
TZNAME:EST
DTSTART:20241103T060000
END:STANDARD
BEGIN:DAYLIGHT
TZOFFSETFROM:-0500
TZOFFSETTO:-0400
TZNAME:EDT
DTSTART:20250309T070000
END:DAYLIGHT
BEGIN:STANDARD
TZOFFSETFROM:-0400
TZOFFSETTO:-0500
TZNAME:EST
DTSTART:20251102T060000
END:STANDARD
END:VTIMEZONE
BEGIN:VEVENT
DTSTART;TZID=America/New_York:20240413T180000
DTEND;TZID=America/New_York:20240413T210000
DTSTAMP:20260421T162818
CREATED:20240329T192949Z
LAST-MODIFIED:20240329T192949Z
UID:644-1713031200-1713042000@raypetersenmusic.com
SUMMARY:50s 60s & 70s Favorites at Georgina's Restaurant
DESCRIPTION:Join me for a night of favorite hits from the 50s\, 60s\, and 70s. I’m looking forward to performing at this new venue in Morrisville\, NC. The food there is outstanding and the owner and staff are very welcoming. So come enjoy dinner and a show in a great atmosphere at Georgina’s Restaurant. \nGeorgina’s Restaurant & Pizzeria is a top rated Italian restaurant in the Morrisville/Cary area of North Carolina. Check them out at https://georginasrestaurantnc.com
URL:https://raypetersenmusic.com/event/50s-60s-70s-favorites-at-georginas-restaurant/
LOCATION:Georgina’s Restaurant and Pizzeria\, 3536 Davis Drive\, Morrisville\, 27560\, United States
ATTACH;FMTTYPE=image/png:https://raypetersenmusic.com/wp-content/uploads/2024/03/Ray-Petersen-Music-at-Georginas-April-13-2024-1.png
END:VEVENT
END:VCALENDAR