BEGIN:VCALENDAR
VERSION:2.0
PRODID:-//Ray Petersen Music - ECPv6.15.20//NONSGML v1.0//EN
CALSCALE:GREGORIAN
METHOD:PUBLISH
X-WR-CALNAME:Ray Petersen Music
X-ORIGINAL-URL:https://raypetersenmusic.com
X-WR-CALDESC:Events for Ray Petersen Music
REFRESH-INTERVAL;VALUE=DURATION:PT1H
X-Robots-Tag:noindex
X-PUBLISHED-TTL:PT1H
BEGIN:VTIMEZONE
TZID:America/New_York
BEGIN:DAYLIGHT
TZOFFSETFROM:-0500
TZOFFSETTO:-0400
TZNAME:EDT
DTSTART:20210314T070000
END:DAYLIGHT
BEGIN:STANDARD
TZOFFSETFROM:-0400
TZOFFSETTO:-0500
TZNAME:EST
DTSTART:20211107T060000
END:STANDARD
BEGIN:DAYLIGHT
TZOFFSETFROM:-0500
TZOFFSETTO:-0400
TZNAME:EDT
DTSTART:20220313T070000
END:DAYLIGHT
BEGIN:STANDARD
TZOFFSETFROM:-0400
TZOFFSETTO:-0500
TZNAME:EST
DTSTART:20221106T060000
END:STANDARD
BEGIN:DAYLIGHT
TZOFFSETFROM:-0500
TZOFFSETTO:-0400
TZNAME:EDT
DTSTART:20230312T070000
END:DAYLIGHT
BEGIN:STANDARD
TZOFFSETFROM:-0400
TZOFFSETTO:-0500
TZNAME:EST
DTSTART:20231105T060000
END:STANDARD
END:VTIMEZONE
BEGIN:VEVENT
DTSTART;TZID=America/New_York:20220124T183000
DTEND;TZID=America/New_York:20220124T193000
DTSTAMP:20260425T033930
CREATED:20220104T174513Z
LAST-MODIFIED:20220104T174513Z
UID:312-1643049000-1643052600@raypetersenmusic.com
SUMMARY:Brighter Living Assisted Living
DESCRIPTION:A return to one of my absolute favorite places to sing and play my guitar. Lots of audience participation\, a whole lot of fun\, and a great vibe.
URL:https://raypetersenmusic.com/event/brighter-living-assisted-living/
LOCATION:NC
END:VEVENT
END:VCALENDAR